BEGIN:VCALENDAR
VERSION:2.0
PRODID:-//St Paul&#039;s Church, Scotforth - ECPv6.15.15//NONSGML v1.0//EN
CALSCALE:GREGORIAN
METHOD:PUBLISH
X-ORIGINAL-URL:https://stpauls-scotforth.org
X-WR-CALDESC:Events for St Paul&#039;s Church, Scotforth
REFRESH-INTERVAL;VALUE=DURATION:PT1H
X-Robots-Tag:noindex
X-PUBLISHED-TTL:PT1H
BEGIN:VTIMEZONE
TZID:Europe/London
BEGIN:DAYLIGHT
TZOFFSETFROM:+0000
TZOFFSETTO:+0100
TZNAME:BST
DTSTART:20250330T010000
END:DAYLIGHT
BEGIN:STANDARD
TZOFFSETFROM:+0100
TZOFFSETTO:+0000
TZNAME:GMT
DTSTART:20251026T010000
END:STANDARD
BEGIN:DAYLIGHT
TZOFFSETFROM:+0000
TZOFFSETTO:+0100
TZNAME:BST
DTSTART:20260329T010000
END:DAYLIGHT
BEGIN:STANDARD
TZOFFSETFROM:+0100
TZOFFSETTO:+0000
TZNAME:GMT
DTSTART:20261025T010000
END:STANDARD
BEGIN:DAYLIGHT
TZOFFSETFROM:+0000
TZOFFSETTO:+0100
TZNAME:BST
DTSTART:20270328T010000
END:DAYLIGHT
BEGIN:STANDARD
TZOFFSETFROM:+0100
TZOFFSETTO:+0000
TZNAME:GMT
DTSTART:20271031T010000
END:STANDARD
END:VTIMEZONE
BEGIN:VEVENT
DTSTART;TZID=Europe/London:20260516T143000
DTEND;TZID=Europe/London:20260516T160000
DTSTAMP:20260420T091326
CREATED:20260210T203303Z
LAST-MODIFIED:20260414T093219Z
UID:3254-1778941800-1778947200@stpauls-scotforth.org
SUMMARY:A new drama - "Paul\, an Apostle of Christ"
DESCRIPTION:Written by our own\, Margaret Ives\, the play takes the form of an interview with Paul\, himself. Featuring children from a local community theatre group (ElArt Productions). \n  \nAdmission is free\, tickets will be available from the back of church following Sunday services\, by emailing office@stpauls-scotforth.org or online by searching for the play on Eventbrite. A QR code for a direct link to Eventbrite is included on the attached poster. \nEveryone welcome.
URL:https://stpauls-scotforth.org/upcomingevent/a-new-drama-paul-an-apostle-of-christ/
LOCATION:St Paul’s Parish Hall\, Scotforth Road\, Lancaster\, Lancashire\, LA1 4TS\, United Kingdom
ATTACH;FMTTYPE=image/jpeg:https://stpauls-scotforth.org/wp-content/uploads/2026/04/Drama-Poster-FINAL-CORR.jpg
END:VEVENT
BEGIN:VEVENT
DTSTART;TZID=Europe/London:20260516T193000
DTEND;TZID=Europe/London:20260516T210000
DTSTAMP:20260420T091326
CREATED:20260210T203418Z
LAST-MODIFIED:20260414T093140Z
UID:3256-1778959800-1778965200@stpauls-scotforth.org
SUMMARY:A new drama - "Paul\, an Apostle of Christ"
DESCRIPTION:Written by our own\, Margaret Ives\, the play takes the form of an interview with Paul\, himself. Featuring children from a local community theatre group (ElArt Productions). \n  \nAdmission is free\, tickets will be available from the back of church following Sunday services\, by emailing office@stpauls-scotforth.org or online by searching for the play on Eventbrite. A QR code directly to Eventbrite is on the attached poster. \nEveryone welcome.
URL:https://stpauls-scotforth.org/upcomingevent/a-new-drama-paul-an-apostle-of-christ-2/
LOCATION:St Paul’s Parish Hall\, Scotforth Road\, Lancaster\, Lancashire\, LA1 4TS\, United Kingdom
ATTACH;FMTTYPE=image/jpeg:https://stpauls-scotforth.org/wp-content/uploads/2026/04/Drama-Poster-FINAL-CORR.jpg
END:VEVENT
BEGIN:VEVENT
DTSTART;TZID=Europe/London:20260517T173000
DTEND;TZID=Europe/London:20260517T200000
DTSTAMP:20260420T091326
CREATED:20260213T092750Z
LAST-MODIFIED:20260213T093846Z
UID:3286-1779039000-1779048000@stpauls-scotforth.org
SUMMARY:"Soup for the Soul" - 'Let's discuss the drama'
DESCRIPTION:Nourish your understanding of the ministry of St Paul with this series of flavourful talks and discussions. \nStarting with a hearty bowl of soup\, this is followed by a short time of worship\, followed by a 45 minutes talk on the highlighted topic.
URL:https://stpauls-scotforth.org/upcomingevent/soup-for-the-soul-lets-discuss-the-drama/
LOCATION:Private: St Paul’s\, Hala Worship Centre\, Hala Square\, Lancaster\, LA1 4RW\, United Kingdom
END:VEVENT
END:VCALENDAR